BEGIN:VCALENDAR
VERSION:2.0
PRODID:-//Curbar Parish Council//Meeting Calendar//EN
CALSCALE:GREGORIAN
METHOD:PUBLISH
BEGIN:VEVENT
UID:72568-20260514@curbarparishcouncil.gov.uk
DTSTAMP:20260422T084041Z
DTSTART;VALUE=DATE:20260514
DTEND;VALUE=DATE:20260515
SUMMARY:Annual Parish Meeting followed by Parish Council meeting &#8211\\; 14th May 2026 6.30pm
DESCRIPTION:Full Council Meeting\nView details: https://curbarparishcouncil.gov.uk/meetings/annual-parish-meeting-followed-by-parish-council-meeting/
URL:https://curbarparishcouncil.gov.uk/meetings/annual-parish-meeting-followed-by-parish-council-meeting/
END:VEVENT
END:VCALENDAR
